BEGIN:VCALENDAR
VERSION:2.0
PRODID:-//Tukios.com/
BEGIN:VEVENT
UID:cbc9de07-f013-4017-a35b-11b321b89fa4@www.alfirdousfuneralhome.com
DTSTAMP:20260425T184853Z
DTSTART:20260429T161500Z
DTEND:20260429T164500Z
SUMMARY:Burial
DESCRIPTION:
URL:https://www.alfirdousfuneralhome.com/obituaries/aderonke-odeniyi-davies
LOCATION: 535 Texas Rd  Marlboro NJ 07751
GEO:40.364978;-74.2859098
END:VEVENT
END:VCALENDAR