BEGIN:VCALENDAR
VERSION:2.0
PRODID:-//Tukios.com/
BEGIN:VEVENT
UID:a6c7ecc6-6843-44d1-b7b9-972dc26dc3b0@www.alfirdousfuneralhome.com
DTSTAMP:20260425T184853Z
DTSTART:20260429T140000Z
DTEND:20260429T151500Z
SUMMARY:Funeral Service
DESCRIPTION:
URL:https://www.alfirdousfuneralhome.com/obituaries/aderonke-odeniyi-davies
LOCATION: 579 Grove Street  Irvington NJ 07111
GEO:40.7377138;-74.2144246
END:VEVENT
END:VCALENDAR