BEGIN:VCALENDAR
VERSION:2.0
PRODID:-//Tukios.com/
BEGIN:VEVENT
UID:8b8fa02f-41cc-417c-86d8-5a7fbbb2de73@www.alfirdousfuneralhome.com
DTSTAMP:20260425T184551Z
DTSTART:20260429T130000Z
DTEND:20260429T140000Z
SUMMARY:Visitation
DESCRIPTION:
URL:https://www.alfirdousfuneralhome.com/obituaries/aderonke-odeniyi-davies
LOCATION: 579 Grove Street  Irvington NJ 07111
GEO:40.7377138;-74.2144246
END:VEVENT
END:VCALENDAR